BEGIN:VCALENDAR
VERSION:2.0
PRODID:-//wp-events-plugin.com//7.2.2.1//EN
BEGIN:VEVENT
UID:145@2ashootingcenter.com
DTSTART:20260314T100000Z
DTEND:20260314T140000Z
DTSTAMP:20260217T192146Z
URL:https://2ashootingcenter.com/classes/trauma-readiness-essentials-3/
SUMMARY:Trauma Readiness Essentials
DESCRIPTION:&nbsp\;\n\nTrauma Readiness Essentials\n\n&nbsp\;\n\nMarch 14th
  \n\n\n\n4616 E Admiral Pl\nTulsa\, OK 74115\n\n\n\n\n\n(Provides CLEET C
 E + Stop The Bleed Certification)\n\n📍 Location: 2A Shooting Center\, T
 ulsa\, OK\n\n&nbsp\;\n\n&nbsp\;\n\n&nbsp\;\n\n&nbsp\;\n\n\n&nbsp\;\n\n(Pro
 vides CLEET CE + American College of Surgeons Stop The Bleed Certification
 )\nTrauma Readiness Essentials is a fast-paced\, hands-on course designed 
 to give everyday people and professionals the skills and confidence to sav
 e lives before EMS arrives. This 3–4 hour interactive class focuses on r
 eal trauma that kills quickly—massive hemorrhage\, airway compromise\, r
 espiratory emergencies\, and shock.\n\nWhether it happens on the range\, i
 n a vehicle accident\, on the job\, or during an act of violence\, life-th
 reatening injuries can occur anytime. This course teaches you how to asses
 s\, identify\, and treat critical trauma\, bridging the gap between the po
 int of injury and definitive medical care.\n\nStudents will learn essentia
 l\, battle-tested skills used in modern trauma medicine\, including wound 
 packing\, tourniquet application\, airway management fundamentals\, chest 
 trauma response\, and shock management. You walk away with the tools\, con
 fidence\, and mindset to take immediate action when seconds count. The ski
 lls learned in this course can be integrated and applied to any real-world
  trauma incident or training.\n\nPerfect for civilians\, law enforcement\,
  private security\, workplaces\, churches\, and anyone who wants to be tru
 ly prepared.\n\n&nbsp\;
END:VEVENT
END:VCALENDAR